Workbook

Sheet REGISTRATION FORM
B3: REGISTRANT 1 | C3: REGISTRANT 2 / PARTNER | D3: DATE | T3: Yes
A4: Sunnybroms Reference No. (If known) | B4: =Sheet1!$A$2 -> 0 | C4: =Sheet1!$A$3 -> 0 | D4: =TODAY() -> 42440 | T4: No
A5: First Name | B5: =Sheet1!$D$2 -> 0 | C5: =Sheet1!$D$3 -> 0
A6: Surname | B6: =Sheet1!$E$2 -> 0 | C6: =IF(K6,B6,"0") -> 0 | D6: Use these checkboxes if details are the same | K6: FALSE
A7: Street Address | B7: =Sheet1!$F$2 -> 0 | C7: =IF(K7,B7,"0") -> 0 | K7: FALSE
A8: City | B8: =Sheet1!$G$2 -> 0 | C8: =IF(K8,B8,"0") -> 0 | K8: FALSE
A9: State | B9: =Sheet1!$H$2 -> 0 | C9: =IF(K9,B9,"0") -> 0 | K9: FALSE
A10: Post Code | B10: =Sheet1!$I$2 -> 0 | C10: =IF(K10,B10,"0") -> 0 | K10: FALSE
A11: Country | B11: =Sheet1!$J$2 -> 0 | C11: =IF(K11,B11,"0") -> 0 | K11: FALSE
A12: Email Address | B12: =Sheet1!$K$2 -> 0 | C12: =IF(K12,B12,"0") -> 0 | K12: FALSE
A13: Home Phone No | B13: =Sheet1!$L$2 -> 0 | C13: =IF(K13,B13,"0") -> 0 | K13: FALSE
A14: Mobile Phone No | C14: =IF(K14,B14,"0") -> 0 | K14: FALSE
A15: Society / Group Name | C15: =IF(K15,B15,"0") -> 0 | K15: FALSE
A16: Membership Type (eg Life Member) | AC16: =$D$4 -> 42440 | AE16: 42735 | AG16: =AE16-AC16 -> 295
A17: Awards Held (eg MBE, OAM)
A18: Name for Badge
A19: Authorise Name and Contact details in proceedings book? (Yes/No) | B19: Yes | C19: Yes
A20: Special Diet Requirements
A21: Selling Plants (Yes/No) | B21: No | C21: No
A22: Entering Competition (Yes/No) | B22: No | C22: No
A23: Gifts / Plants for Auction
A24: Please indicate your intentions in relevant check boxes | B24: Amount (Registrants) | C24: Amount (Registrant 2 /Partner) | AE24: Reg | AG24: Non Reg
A25: Full (All Inclusive - Except Opt Dinner) Before 31/12/2016 $300 ( From 1/1/2017 $350) | B25: =IF(AE25,AF25,0) -> 0 | C25: =IF(AG25,AF25,0) -> 0 | AA25: Full $ | AE25: FALSE | AF25: =IF(AG16<0,350,300) -> 300 | AG25: FALSE
AA26: OTHER OPTIONS
A27: Fri (Talks,Lunch,Tea/Coffee) $100 | B27: =IF(AE27,AF27,0) -> 0 | C27: =IF(AG27,AF27,0) -> 0 | D27: NOT OPEN AT THIS STAGE | AA27: Friday $ | AE27: FALSE | AF27: 0 | AG27: FALSE
A28: Sat (Talks,Lunch,Tea/Coffee) $100 | B28: =IF(AE28,AF28,0) -> 0 | C28: =IF(AG28,AF28,0) -> 0 | AA28: Saturday $ | AE28: FALSE | AF28: 0 | AG28: FALSE
A29: Sun (Talks,Lunch,Tea/Coffee) $100 | B29: =IF(AE29,AF29,0) -> 0 | C29: =IF(AG29,AF29,0) -> 0 | AA29: Sunday $ | AE29: FALSE | AF29: 0 | AG29: FALSE
A30: Garden Tour 1 $20 | B30: =IF(AE30,AF30,0) -> 0 | C30: =IF(AG30,AF30,0) -> 0 | AA30: Garden Tour 1 $ | AE30: FALSE | AF30: 20 | AG30: FALSE
A31: Garden Tour 2 $20 | B31: =IF(AE31,AF31,0) -> 0 | C31: =IF(AG31,AF31,0) -> 0 | AA31: Garden Tour 2 | AE31: FALSE | AF31: 20 | AG31: FALSE
A32: Banquet $70 | B32: =IF(AE32,AF32,0) -> 0 | C32: =IF(AG32,AF32,0) -> 0 | AA32: Banquet $ | AE32: FALSE | AF32: 70 | AG32: FALSE
A33: Optional Dinner $50 | B33: =IF(AE33,AF33,0) -> 0 | C33: =IF(AG33,AF33,0) -> 0 | AA33: Optional Dinner | AE33: FALSE | AF33: 50 | AG33: FALSE
A34: Donation | B34: 0 | C34: 0 | D34: TOTAL | AA34: Donation
A35: Payment due for Cheque/ EFT | B35: =SUM(B25:B34) -> 0 | C35: =SUM(C25:C34) -> 0 | D35: =SUM(B35:C35) -> 0 | F35: Surcharge 1 | G35: Surcharge 2
A36: Payment due for Credit Cards | B36: =B35*102% -> 0 | C36: =C35*102% -> 0 | D36: =B36+C36 -> 0 | F36: =B36-B35 -> 0 | G36: =C36-C35 -> 0
A38: PAYMENTS | D38: EFT/Cheques | E38: CREDIT CARDS
A39: CHEQUES: Sunshine Coast Bromeliad Society Inc. | C39: Cheque/ Money Order | D39: 0
A40: EFT: Bank Suncorp BSB 484799 ACCOUNT 505047293 | C40: Electronic Funds Transfer
A41: CREDIT CARD (Mastercard / Visa) | E41: 0
A42: Enter Card Details below | C42: TOTAL PAID | D42: =SUM(D39:D41) -> 0 | E42: =SUM(E41) -> 0 | AA42: Mastercard
A43: CREDIT CARD TYPE (Please select) | D43: BALANCE DUE | E43: BALANCE DUE | AA43: Visa
...

Sheet Sheet3
A1: ID | B1: Reference No | C1: CODE | D1: First Name | E1: Surname | F1: Address | G1: City/Town | H1: State | I1: Postcode | J1: Country | K1: Email | L1: Home Phone | M1: Mobile | N1: Preferred Contact Method (Post / Email) | O1: Society / Group Name | P1: Membership Type (eg Life Member/ Secretary) | Q1: Awards Held (eg MBE / OAM) | R1: Name for Badge | S1: Special Diet requirements | T1: Entering Competition? (Yes/No) | U1: Selling plants (Yes/No) | V1: Gifts / Plants for Auction | W1: Full Reg ($300 before 31 Dec 2016: $350 After 1 Jan 2017) | X1: Fri (Talks,Lunch,Tea/Coffee) $100 | Y1: Sat (Talks,Lunch,Tea/Coffee) $100 | Z1: Sun (Talks,Lunch,Tea/Coffee) $100 | AA1: Garden Tour 1 $20 | AB1: Garden Tour 2 $20 | AC1: Banquet $70 | AD1: Optional Dinner $50 | AE1: Donations towards running costs | AF1: Total Payment | AG1: Pay Method (EFT / Credit Card / Cheque / Money Order) | AH1: Payment Date | AI1: Delegate Type | AJ1: Emergency Contact Name | AK1: Emergence Contact Phone | AL1: Emergency Contact Address | AM1: Accommodation Plans (Hotel Name/Friends Name) | AN1: Accommodation Phone No | AO1: Accommodation Room No | AP1: NOTE: | AQ1: Reconcilled | AR1: Credit Card Type | AS1: Card Number | AT1: Card Expiry (MM/YY) | AU1: Name on Card | AV1: Card Verification Code (Reverse side of Card) | AW1: Authorise Name and Contact details in proceedings book | AX1: Cheque/Money Order | AY1: EFT | AZ1: CARD
A2: =$B$2 -> 0 | B2: ='REGISTRATION FORM'!$B$4 -> 0 | C2: R | D2: ='REGISTRATION FORM'!$B$5 -> 0 | E2: ='REGISTRATION FORM'!$B$6 -> 0 | F2: ='REGISTRATION FORM'!$B$7 -> 0 | G2: ='REGISTRATION FORM'!$B$8 -> 0 | H2: ='REGISTRATION FORM'!$B$9 -> 0 | I2: ='REGISTRATION FORM'!$B$10 -> 0 | J2: ='REGISTRATION FORM'!$B$11 -> 0 | K2: ='REGISTRATION FORM'!$B$12 -> 0 | L2: ='REGISTRATION FORM'!$B$13 -> 0 | M2: ='REGISTRATION FORM'!$B$14 -> 0 | O2: ='REGISTRATION FORM'!$B$15 -> 0 | P2: ='REGISTRATION FORM'!$B$16 -> 0 | Q2: ='REGISTRATION FORM'!$B$17 -> 0 | R2: ='REGISTRATION FORM'!$B$18 -> 0 | S2: ='REGISTRATION FORM'!$B$20 -> 0 | T2: ='REGISTRATION FORM'!$B$22 -> No | U2: ='REGISTRATION FORM'!$B$21 -> No | V2: ='REGISTRATION FORM'!$B$23 -> 0 | W2: ='REGISTRATION FORM'!$B$25 -> 0 | X2: ='REGISTRATION FORM'!$B$27 -> 0 | Y2: ='REGISTRATION FORM'!$B$28 -> 0 | Z2: ='REGISTRATION FORM'!$B$29 -> 0 | AA2: ='REGISTRATION FORM'!$B$30 -> 0 | AB2: ='REGISTRATION FORM'!$B$31 -> 0 | AC2: ='REGISTRATION FORM'!$B$32 -> 0 | AD2: ='REGISTRATION FORM'!$B$33 -> 0 | AE2: ='REGISTRATION FORM'!$B$34 -> 0 | AF2: ='REGISTRATION FORM'!$B$35 -> 0 | AR2: ='REGISTRATION FORM'!$B$43 -> 0 | AS2: ='REGISTRATION FORM'!$B$44 -> 0 | AT2: ='REGISTRATION FORM'!$B$45 -> 0 | AU2: ='REGISTRATION FORM'!$B$46 -> 0 | AV2: ='REGISTRATION FORM'!$B$47 -> 0 | AW2: ='REGISTRATION FORM'!$B$19 -> Yes | AX2: ='REGISTRATION FORM'!$D$39 -> 0 | AY2: ='REGISTRATION FORM'!$D$40 -> 0 | AZ2: ='REGISTRATION FORM'!$E$41 -> 0
A3: ='REGISTRATION FORM'!$C$4 -> 0 | B3: ='REGISTRATION FORM'!$C$4 -> 0 | C3: R | D3: ='REGISTRATION FORM'!$C$5 -> 0 | E3: ='REGISTRATION FORM'!$C$6 -> 0 | F3: ='REGISTRATION FORM'!$C$7 -> 0 | G3: ='REGISTRATION FORM'!$C$8 -> 0 | H3: ='REGISTRATION FORM'!$C$9 -> 0 | I3: ='REGISTRATION FORM'!$C$10 -> 0 | J3: ='REGISTRATION FORM'!$C$11 -> 0 | K3: ='REGISTRATION FORM'!$C$12 -> 0 | L3: ='REGISTRATION FORM'!$C$13 -> 0 | M3: ='REGISTRATION FORM'!$C$14 -> 0 | O3: ='REGISTRATION FORM'!$C$15 -> 0 | P3: ='REGISTRATION FORM'!$C$16 -> 0 | Q3: ='REGISTRATION FORM'!$C$17 -> 0 | R3: ='REGISTRATION FORM'!$C$18 -> 0 | S3: ='REGISTRATION FORM'!$C$20 -> 0 | T3: ='REGISTRATION FORM'!$C$22 -> No | U3: ='REGISTRATION FORM'!$C$21 -> No | V3: ='REGISTRATION FORM'!$C$23 -> 0 | W3: ='REGISTRATION FORM'!$C$25 -> 0 | X3: ='REGISTRATION FORM'!$C$27 -> 0 | Y3: ='REGISTRATION FORM'!$C$28 -> 0 | Z3: ='REGISTRATION FORM'!$C$29 -> 0 | AA3: ='REGISTRATION FORM'!$C$30 -> 0 | AB3: ='REGISTRATION FORM'!$C$31 -> 0 | AC3: ='REGISTRATION FORM'!$C$32 -> 0 | AD3: ='REGISTRATION FORM'!$C$33 -> 0 | AE3: ='REGISTRATION FORM'!$C$34 -> 0 | AF3: ='REGISTRATION FORM'!$C$35 -> 0 | AW3: ='REGISTRATION FORM'!$C$19 -> Yes

Sheet Sheet1

Sheet Sheet2
